BEGIN:VCALENDAR
VERSION:2.0
PRODID:-//ASV-Sindelfingen - ECPv6.15.20//NONSGML v1.0//EN
CALSCALE:GREGORIAN
METHOD:PUBLISH
X-WR-CALNAME:ASV-Sindelfingen
X-ORIGINAL-URL:https://www.asv-sindelfingen.de
X-WR-CALDESC:Veranstaltungen für ASV-Sindelfingen
REFRESH-INTERVAL;VALUE=DURATION:PT1H
X-Robots-Tag:noindex
X-PUBLISHED-TTL:PT1H
BEGIN:VTIMEZONE
TZID:Europe/Berlin
BEGIN:DAYLIGHT
TZOFFSETFROM:+0100
TZOFFSETTO:+0200
TZNAME:CEST
DTSTART:20250330T010000
END:DAYLIGHT
BEGIN:STANDARD
TZOFFSETFROM:+0200
TZOFFSETTO:+0100
TZNAME:CET
DTSTART:20251026T010000
END:STANDARD
BEGIN:DAYLIGHT
TZOFFSETFROM:+0100
TZOFFSETTO:+0200
TZNAME:CEST
DTSTART:20260329T010000
END:DAYLIGHT
BEGIN:STANDARD
TZOFFSETFROM:+0200
TZOFFSETTO:+0100
TZNAME:CET
DTSTART:20261025T010000
END:STANDARD
BEGIN:DAYLIGHT
TZOFFSETFROM:+0100
TZOFFSETTO:+0200
TZNAME:CEST
DTSTART:20270328T010000
END:DAYLIGHT
BEGIN:STANDARD
TZOFFSETFROM:+0200
TZOFFSETTO:+0100
TZNAME:CET
DTSTART:20271031T010000
END:STANDARD
END:VTIMEZONE
BEGIN:VEVENT
DTSTART;TZID=Europe/Berlin:20260510T070000
DTEND;TZID=Europe/Berlin:20260510T130000
DTSTAMP:20260424T145219
CREATED:20181223T130001Z
LAST-MODIFIED:20251220T161500Z
UID:3141-1778396400-1778418000@www.asv-sindelfingen.de
SUMMARY:Kameradschaftsfischen
DESCRIPTION:
URL:https://www.asv-sindelfingen.de/event/kameradschaftsfischen/
LOCATION:Rückhaltebecken Goldbach\, Mönchsbrunnen\, Sindelfingen\, 71065\, Deutschland
CATEGORIES:Vereinsveranstaltung
END:VEVENT
BEGIN:VEVENT
DTSTART;TZID=Europe/Berlin:20260704T120000
DTEND;TZID=Europe/Berlin:20260704T220000
DTSTAMP:20260424T145219
CREATED:20181223T130327Z
LAST-MODIFIED:20251220T161545Z
UID:3143-1783166400-1783202400@www.asv-sindelfingen.de
SUMMARY:Fischerfest 2026 - Tag 1
DESCRIPTION:Traditionelles Fischerfest des Angelsportverein Sindelfingen mit leckeren Speisen und Getränken für jedermann.
URL:https://www.asv-sindelfingen.de/event/fischerfest-2019/
LOCATION:ASV Vereinsheim\, Maichingerstr. 121\, Sindelfingen\, 71067\, Deutschland
CATEGORIES:Vereinsveranstaltung
END:VEVENT
BEGIN:VEVENT
DTSTART;TZID=Europe/Berlin:20260705T100000
DTEND;TZID=Europe/Berlin:20260705T180000
DTSTAMP:20260424T145219
CREATED:20181223T130705Z
LAST-MODIFIED:20251220T161612Z
UID:3149-1783245600-1783274400@www.asv-sindelfingen.de
SUMMARY:Fischerfest 2026 - Tag 2
DESCRIPTION:Traditionelles Fischerfest des Angelsportverein Sindelfingen mit leckeren Speisen und Getränken für jedermann.
URL:https://www.asv-sindelfingen.de/event/fischerfest-2019-tag-2/
LOCATION:ASV Vereinsheim\, Maichingerstr. 121\, Sindelfingen\, 71067\, Deutschland
CATEGORIES:Vereinsveranstaltung
END:VEVENT
BEGIN:VEVENT
DTSTART;TZID=Europe/Berlin:20260920T070000
DTEND;TZID=Europe/Berlin:20260920T130000
DTSTAMP:20260424T145219
CREATED:20181223T131041Z
LAST-MODIFIED:20251220T161702Z
UID:3151-1789887600-1789909200@www.asv-sindelfingen.de
SUMMARY:Gemeinschaftsfischen
DESCRIPTION:
URL:https://www.asv-sindelfingen.de/event/gemeinschaftsfischen/
LOCATION:Rückhaltebecken Goldbach\, Mönchsbrunnen\, Sindelfingen\, 71065\, Deutschland
CATEGORIES:Vereinsveranstaltung
END:VEVENT
END:VCALENDAR